BEGIN:VCALENDAR
VERSION:2.0
PRODID:-//Charlottesville Filipino American Catholics - ECPv6.15.20//NONSGML v1.0//EN
CALSCALE:GREGORIAN
METHOD:PUBLISH
X-ORIGINAL-URL:https://cvillefilamcatholics.com
X-WR-CALDESC:Events for Charlottesville Filipino American Catholics
REFRESH-INTERVAL;VALUE=DURATION:PT1H
X-Robots-Tag:noindex
X-PUBLISHED-TTL:PT1H
BEGIN:VTIMEZONE
TZID:America/New_York
BEGIN:DAYLIGHT
TZOFFSETFROM:-0500
TZOFFSETTO:-0400
TZNAME:EDT
DTSTART:20250309T070000
END:DAYLIGHT
BEGIN:STANDARD
TZOFFSETFROM:-0400
TZOFFSETTO:-0500
TZNAME:EST
DTSTART:20251102T060000
END:STANDARD
BEGIN:DAYLIGHT
TZOFFSETFROM:-0500
TZOFFSETTO:-0400
TZNAME:EDT
DTSTART:20260308T070000
END:DAYLIGHT
BEGIN:STANDARD
TZOFFSETFROM:-0400
TZOFFSETTO:-0500
TZNAME:EST
DTSTART:20261101T060000
END:STANDARD
BEGIN:DAYLIGHT
TZOFFSETFROM:-0500
TZOFFSETTO:-0400
TZNAME:EDT
DTSTART:20270314T070000
END:DAYLIGHT
BEGIN:STANDARD
TZOFFSETFROM:-0400
TZOFFSETTO:-0500
TZNAME:EST
DTSTART:20271107T060000
END:STANDARD
END:VTIMEZONE
BEGIN:VEVENT
DTSTART;TZID=America/New_York:20260123T183000
DTEND;TZID=America/New_York:20260123T210000
DTSTAMP:20260421T164950
CREATED:20251016T023837Z
LAST-MODIFIED:20260115T020337Z
UID:484-1769193000-1769202000@cvillefilamcatholics.com
SUMMARY:Santo Niño (Novena)
DESCRIPTION:Strengthen your faith and unity through the Sto. Niño Novena and shared fellowship. \n\nPotluck after the Novena—everyone is welcome to share their delicious dishes
URL:https://cvillefilamcatholics.com/event/santo-nino-novena-9/
LOCATION:Church of the Incarnation\, 1465 Incarnation Drive\, Charlottesville\, VA\, 22901\, United States
CATEGORIES:Santo Niño & Sinulog
ATTACH;FMTTYPE=image/jpeg:https://cvillefilamcatholics.com/wp-content/uploads/2025/10/santo-nino_4.jpg
END:VEVENT
BEGIN:VEVENT
DTSTART;TZID=America/New_York:20260201T153000
DTEND;TZID=America/New_York:20260201T170000
DTSTAMP:20260421T164950
CREATED:20251016T032120Z
LAST-MODIFIED:20260124T212751Z
UID:506-1769959800-1769965200@cvillefilamcatholics.com
SUMMARY:Santo Niño (Sinulog)
DESCRIPTION:Join in the spirit of devotion\, joy\, and togetherness through the Santo Niño Sinulog celebration
URL:https://cvillefilamcatholics.com/event/santo-nino-sinulog/
LOCATION:Church of the Incarnation\, 1465 Incarnation Drive\, Charlottesville\, VA\, 22901\, United States
CATEGORIES:Santo Niño & Sinulog
ATTACH;FMTTYPE=image/jpeg:https://cvillefilamcatholics.com/wp-content/uploads/2025/10/santo-nino-sinulog_1.jpg
END:VEVENT
BEGIN:VEVENT
DTSTART;TZID=America/New_York:20260206T180000
DTEND;TZID=America/New_York:20260206T200000
DTSTAMP:20260421T164950
CREATED:20251010T163849Z
LAST-MODIFIED:20251016T024253Z
UID:404-1770400800-1770408000@cvillefilamcatholics.com
SUMMARY:Santo Niño (Perpetual Novena & Meeting)
DESCRIPTION:Celebrate hope\, faith and unity through the Santo Niño Perpetual Novena and fellowship.
URL:https://cvillefilamcatholics.com/event/santo-nino-perpetual-novena-meeting-4/
LOCATION:Church of the Incarnation\, 1465 Incarnation Drive\, Charlottesville\, VA\, 22901\, United States
CATEGORIES:Santo Niño & Sinulog
ATTACH;FMTTYPE=image/jpeg:https://cvillefilamcatholics.com/wp-content/uploads/2025/10/santo-nino.jpg
END:VEVENT
BEGIN:VEVENT
DTSTART;TZID=America/New_York:20260306T180000
DTEND;TZID=America/New_York:20260306T200000
DTSTAMP:20260421T164950
CREATED:20251010T163921Z
LAST-MODIFIED:20251016T024229Z
UID:406-1772820000-1772827200@cvillefilamcatholics.com
SUMMARY:Santo Niño (Perpetual Novena & Meeting)
DESCRIPTION:Celebrate hope\, faith and unity through the Santo Niño Perpetual Novena and fellowship.
URL:https://cvillefilamcatholics.com/event/santo-nino-perpetual-novena-meeting-5/
LOCATION:Church of the Incarnation\, 1465 Incarnation Drive\, Charlottesville\, VA\, 22901\, United States
CATEGORIES:Santo Niño & Sinulog
ATTACH;FMTTYPE=image/jpeg:https://cvillefilamcatholics.com/wp-content/uploads/2025/10/santo-nino.jpg
END:VEVENT
BEGIN:VEVENT
DTSTART;TZID=America/New_York:20260403T180000
DTEND;TZID=America/New_York:20260403T200000
DTSTAMP:20260421T164950
CREATED:20251010T164000Z
LAST-MODIFIED:20251016T024202Z
UID:408-1775239200-1775246400@cvillefilamcatholics.com
SUMMARY:Santo Niño (Perpetual Novena & Meeting)
DESCRIPTION:Celebrate hope\, faith and unity through the Santo Niño Perpetual Novena and fellowship.
URL:https://cvillefilamcatholics.com/event/santo-nino-perpetual-novena-meeting-6/
LOCATION:Church of the Incarnation\, 1465 Incarnation Drive\, Charlottesville\, VA\, 22901\, United States
CATEGORIES:Santo Niño & Sinulog
ATTACH;FMTTYPE=image/jpeg:https://cvillefilamcatholics.com/wp-content/uploads/2025/10/santo-nino.jpg
END:VEVENT
BEGIN:VEVENT
DTSTART;TZID=America/New_York:20260501T180000
DTEND;TZID=America/New_York:20260501T200000
DTSTAMP:20260421T164950
CREATED:20251010T164117Z
LAST-MODIFIED:20251016T024135Z
UID:410-1777658400-1777665600@cvillefilamcatholics.com
SUMMARY:Santo Niño (Perpetual Novena & Meeting)
DESCRIPTION:Celebrate hope\, faith and unity through the Santo Niño Perpetual Novena and fellowship.
URL:https://cvillefilamcatholics.com/event/santo-nino-perpetual-novena-meeting-7/
LOCATION:Church of the Incarnation\, 1465 Incarnation Drive\, Charlottesville\, VA\, 22901\, United States
CATEGORIES:Santo Niño & Sinulog
ATTACH;FMTTYPE=image/jpeg:https://cvillefilamcatholics.com/wp-content/uploads/2025/10/santo-nino.jpg
END:VEVENT
BEGIN:VEVENT
DTSTART;TZID=America/New_York:20260605T180000
DTEND;TZID=America/New_York:20260605T200000
DTSTAMP:20260421T164950
CREATED:20251010T164150Z
LAST-MODIFIED:20251016T024046Z
UID:412-1780682400-1780689600@cvillefilamcatholics.com
SUMMARY:Santo Niño (Perpetual Novena & Meeting)
DESCRIPTION:Celebrate hope\, faith and unity through the Santo Niño Perpetual Novena and fellowship.
URL:https://cvillefilamcatholics.com/event/santo-nino-perpetual-novena-meeting-8/
LOCATION:Church of the Incarnation\, 1465 Incarnation Drive\, Charlottesville\, VA\, 22901\, United States
CATEGORIES:Santo Niño & Sinulog
ATTACH;FMTTYPE=image/jpeg:https://cvillefilamcatholics.com/wp-content/uploads/2025/10/santo-nino.jpg
END:VEVENT
END:VCALENDAR